BEGIN:VCALENDAR
VERSION:2.0
PRODID:-//Black Hills Raptor Center - ECPv5.16.4//NONSGML v1.0//EN
CALSCALE:GREGORIAN
METHOD:PUBLISH
X-WR-CALNAME:Black Hills Raptor Center
X-ORIGINAL-URL:https://www.blackhillsraptorcenter.org
X-WR-CALDESC:Events for Black Hills Raptor Center
BEGIN:VTIMEZONE
TZID:America/Denver
BEGIN:DAYLIGHT
TZOFFSETFROM:-0700
TZOFFSETTO:-0600
TZNAME:MDT
DTSTART:20230312T090000
END:DAYLIGHT
BEGIN:STANDARD
TZOFFSETFROM:-0600
TZOFFSETTO:-0700
TZNAME:MST
DTSTART:20231105T080000
END:STANDARD
END:VTIMEZONE
BEGIN:VEVENT
DTSTART;TZID=America/Denver:20230510T094500
DTEND;TZID=America/Denver:20230510T131500
DTSTAMP:20260421T072216
CREATED:20230116T195351Z
LAST-MODIFIED:20230116T195351Z
UID:8962-1683711900-1683724500@www.blackhillsraptorcenter.org
SUMMARY:BHSU  - Women in Science
DESCRIPTION:
URL:https://www.blackhillsraptorcenter.org/event/bhsu-women-in-science/
LOCATION:Black Hills State University\, 1200 University Blvd\, Spearfish \, 57799\, United States
END:VEVENT
END:VCALENDAR